Workbook
Name Hist_Yr: 'Integrated financial statement'!$D$36

Sheet Integrated financial statement
A1: Company Name: The Goldman Sachs Group, Inc. | L1: General Assumptions:
A2: Form Type: 10-K
A3: Filed On: 2/27/2017 | M3: Company Name: | N3: Goldman Sachs Group, Inc.
A4: Year ended december | M4: Ticker: | N4: GS
A5: in millions, except per share amounts | E5: Forecast | F5: Forecast | G5: Forecast | H5: Forecast | I5: Forecast | M5: Current Share Price: | N5: 268.02
A6: INCOME STATEMENT | B6: 2014 | C6: 2015 | D6: 2016 | E6: 2017 | F6: 2018 | G6: 2019 | H6: 2020 | I6: 2021 | M6: Last Historical Year: | N6: 42735
A7: Revenues
A8: Investment banking | B8: ='Consolidated I S 2016'!B9 -> 6464 | C8: ='Consolidated I S 2016'!C9 -> 7027 | D8: ='Consolidated I S 2016'!D9 -> 6273 | E8: =E$17*R15 -> 6120.3802 | F8: =F$17*S15 -> 6352.7813 | G8: =G$17*T15 -> 6455.4858 | H8: =H$17*U15 -> 6728.7572 | I8: =I$17*V15 -> 6924.7737 | M8: Annual Gross Margin Improvement: | N8: =AVERAGE(P23:V23) -> 0.0029451365
A9: Investment management | B9: ='Consolidated I S 2016'!B10 -> 5748 | C9: ='Consolidated I S 2016'!C10 -> 5868 | D9: ='Consolidated I S 2016'!D10 -> 5407 | E9: =E$17*R16 -> 4939.8863 | F9: =F$17*S16 -> 4930.0547 | G9: =$E$17*T16 -> 4747.4232 | H9: =$E$17*U16 -> 4747.4232 | I9: =$E$17*V16 -> 4779.5004 | M9: Effective Tax Rate: | N9: 0.21 | O9: new tax code
A10: Commissions and fees | B10: ='Consolidated I S 2016'!B11 -> 3316 | C10: ='Consolidated I S 2016'!C11 -> 3320 | D10: ='Consolidated I S 2016'!D11 -> 3208 | E10: =E$17*R17 -> 2886.9466 | F10: =$F$17*S17 -> 2944.7978 | G10: =$E$17*T17 -> 2790.715 | H10: =$E$17*U17 -> 2790.715 | I10: =$E$17*V17 -> 2726.5606 | M10: Interest Rate on Debt: | N10: 0.057
A11: Market making | B11: ='Consolidated I S 2016'!B12 -> 8365 | C11: ='Consolidated I S 2016'!C12 -> 9523 | D11: ='Consolidated I S 2016'!D12 -> 9933 | E11: =E$17*R18 -> 9302.3834 | F11: =$F$17*S18 -> 9694.6713 | G11: =$E$17*T18 -> 9559.0008 | H11: =$E$17*U18 -> 9591.078 | I11: =$E$17*V18 -> 9623.1552 | M11: Interest Rate on Cash: | N11: 0.008
A12: Other principal transactions | B12: ='Consolidated I S 2016'!B13 -> 6588 | C12: ='Consolidated I S 2016'!C13 -> 5018 | D12: ='Consolidated I S 2016'!D13 -> 3200 | E12: =E$17*R19 -> 2854.8694 | F12: =$F$17*S19 -> 2878.6225 | G12: =$E$17*T19 -> 2790.715 | H12: =$E$17*U19 -> 2758.6378 | I12: =$E$17*V19 -> 2694.4835 | O12: Historical | R12: Projected
A13: Total non-interest revenues | B13: =SUM(B8:B12) -> 30481 | C13: =SUM(C8:C12) -> 30756 | D13: =SUM(D8:D12) -> 28021 | E13: =SUM(E8:E12) -> 26104.466 | F13: =SUM(F8:F12) -> 26800.928 | G13: =SUM(G8:G12) -> 26343.34 | H13: =SUM(H8:H12) -> 26616.611 | I13: =SUM(I8:I12) -> 26748.473 | L13: Financial Statement Drivers: | N13: Units: | O13: 2014 | P13: 2015 | Q13: 2016 | R13: 2017 | S13: 2018 | T13: 2019 | U13: 2020 | V13: 2021
A14: Interest income | B14: ='Consolidated I S 2016'!B15 -> 9604 | C14: ='Consolidated I S 2016'!C15 -> 8452 | D14: ='Consolidated I S 2016'!D15 -> 9691 | E14: =$E$17*R20 -> 8592.501 | F14: =E14*(1+S20) -> 10864.722 | G14: =F14*(1+T20) -> 13809 | H14: =G14*(1+U20) -> 17506.618 | I14: =H14*(1+V20) -> 22193.754 | L14: Income Statement Drivers: | Y14: reason:
A15: Interest expense | B15: ='Consolidated I S 2016'!B16 -> 5557 | C15: ='Consolidated I S 2016'!C16 -> 5388 | D15: ='Consolidated I S 2016'!D16 -> 7104 | E15: =E17*R21 -> 5589.2908 | F15: =F17*S21 -> 5912.0773 | G15: =G17*T21 -> 6389.0589 | H15: =H17*U21 -> 6353.8523 | I15: =I17*V21 -> 6610.8773 | M15: Investment banking | N15: % | O15: =(B8/$B$17) -> 0.18721038 | P15: =(C8/$B$17) -> 0.20351599 | Q15: =(D8/$B$17) -> 0.18167864 | R15: =AVERAGE(O15:Q15) -> 0.19080167 | S15: =AVERAGE(P15:R15) -> 0.19199876 | T15: =AVERAGE(Q15:S15) -> 0.18815969 | U15: =AVERAGE(R15:T15) -> 0.19032004 | V15: =AVERAGE(S15:U15) -> 0.1901595 | Y15: Pressured by clients moving from manage accounts to unmanageaccounts
A16: Net interest income | B16: =B14-B15 -> 4047 | C16: =C14-C15 -> 3064 | D16: =D14-D15 -> 2587 | E16: =E14-E15 -> 3003.2102 | F16: =F14-F15 -> 4952.6452 | G16: =G14-G15 -> 7419.9407 | H16: =H14-H15 -> 11152.765 | I16: =I14-I15 -> 15582.877 | M16: Investment management | N16: % | O16: =(B9/$B$17) -> 0.16647359 | P16: =(C9/$B$17) -> 0.16994903 | Q16: =(D9/$B$17) -> 0.15659754 | R16: 0.154 | S16: 0.149 | T16: 0.148 | U16: 0.148 | V16: 0.149 | Y16: M&A and mergers down
A17: Net revenues, including net interest income | B17: =B13+B16 -> 34528 | C17: =C13+C16 -> 33820 | D17: =D13+D16 -> 30608 | E17: =D17*(1+E18) -> 32077.184 | F17: =E17*(1+F18) -> 33087.615 | G17: =F17*(1+G18) -> 34308.548 | H17: =G17*(1+H18) -> 35354.959 | I17: =H17*(1+I18) -> 36415.608 | M17: Commissions and fees | N17: % | O17: =(B10/$B$17) -> 0.096037998 | P17: =(C10/$B$17) -> 0.096153846 | Q17: =(D10/$B$17) -> 0.092910102 | R17: 0.09 | S17: 0.089 | T17: 0.087 | U17: 0.087 | V17: 0.085 | Y17: fees are being pressure in the market industry.
A18: % Growth | B18: =(B17/34207)-1 -> 0.0093840442 | C18: =(C17/B$17)-1 -> -0.020505097 | D18: =(D17/C$17)-1 -> -0.094973389 | E18: =R22 -> 0.048 | F18: =S22 -> 0.0315 | G18: =T22 -> 0.0369 | H18: =U22 -> 0.0305 | I18: =V22 -> 0.03 | M18: Market making | N18: % | O18: =(B11/$B$17) -> 0.24226715 | P18: =(C11/$B$17) -> 0.27580514 | Q18: =(D11/$B$17) -> 0.28767956 | R18: 0.29 | S18: 0.293 | T18: 0.298 | U18: 0.299 | V18: 0.3
A19: Operating expenses | M19: Other principal transactions | N19: % | O19: =(B12/$B$17) -> 0.19080167 | P19: =(C12/$B$17) -> 0.14533133 | Q19: =(D12/$B$17) -> 0.092678406 | R19: 0.089 | S19: 0.087 | T19: 0.087 | U19: 0.086 | V19: 0.084
A20: Compensation and benefits | B20: ='Consolidated I S 2016'!B21 -> 12691 | C20: ='Consolidated I S 2016'!C21 -> 12678 | D20: ='Consolidated I S 2016'!D21 -> 11647 | E20: =E$29*R27 -> 12048.571 | F20: =F$29*S27 -> 12229.81 | G20: =G$29*T27 -> 13008.716 | H20: =H$29*U27 -> 13517.016 | I20: =I$29*V27 -> 14017.026 | M20: Interest income | N20: % | O20: =(B14/$B$17) -> 0.27815107 | P20: =(C14/$B$17) -> 0.24478684 | Q20: =(D14/$B$17) -> 0.28067076 | R20: =AVERAGE(O20:Q20) -> 0.26786956 | S20: =AVERAGE(P20:R20) -> 0.26444238 | T20: =AVERAGE(Q20:S20) -> 0.27099423 | U20: =AVERAGE(R20:T20) -> 0.26776872 | V20: =AVERAGE(S20:U20) -> 0.26773511 | Y20: fix income below average sells, interest rates increasing
A21: Brokerage, clearing, exchange and distribution fees | B21: ='Consolidated I S 2016'!B22 -> 2501 | C21: ='Consolidated I S 2016'!C22 -> 2576 | D21: ='Consolidated I S 2016'!D22 -> 2555 | E21: =E$29*R28 -> 2490.2649 | F21: =F$29*S28 -> 2569.009 | G21: =G$29*T28 -> 2759.7714 | H21: =H$29*U28 -> 2833.6749 | I21: =I$29*V28 -> 2952.3114 | M21: Interest expense | N21: % | O21: =(B15/$B$17) -> 0.16094184 | P21: =(C15/$B$17) -> 0.15604727 | Q21: =(D15/$B$17) -> 0.20574606 | R21: =AVERAGE(O21:Q21) -> 0.17424506 | S21: =AVERAGE(P21:R21) -> 0.17867946 | T21: =AVERAGE(Q21:S21) -> 0.18622353 | U21: =AVERAGE(R21:T21) -> 0.17971602 | V21: =AVERAGE(S21:U21) -> 0.18153967 | Y21: interest rates are incresing
A22: Market development | B22: ='Consolidated I S 2016'!B23 -> 549 | C22: ='Consolidated I S 2016'!C23 -> 557 | D22: ='Consolidated I S 2016'!D23 -> 457 | E22: =E$29*R29 -> 506.88128 | F22: =F$29*S29 -> 509.40077 | G22: =G$29*T29 -> 532.8337 | H22: =H$29*U29 -> 561.74493 | I22: =I$29*V29 -> 580.13088 | M22: Revenue Growth: | N22: % | O22: =(B17/34207)-1 -> 0.0093840442 | P22: =(C17/B$17)-1 -> -0.020505097 | Q22: =(D17/C$17)-1 -> -0.094973389 | R22: 0.048 | S22: 0.0315 | T22: 0.0369 | U22: 0.0305 | V22: 0.03
A23: Communications and technology | B23: ='Consolidated I S 2016'!B24 -> 779 | C23: ='Consolidated I S 2016'!C24 -> 806 | D23: ='Consolidated I S 2016'!D24 -> 809 | E23: =E$29*R30 -> 781.44957 | F23: =F$29*S30 -> 808.12776 | G23: =G$29*T30 -> 869.48308 | H23: =H$29*U30 -> 891.1406 | I23: =I$29*V30 -> 929.1079 | M23: Annual Gross Margin Improvement: | N23: % | P23: =P22-O22 -> -0.029889142 | Q23: =Q22-P22 -> -0.074468291 | R23: =R22-Q22 -> 0.14297339 | S23: =S22-R22 -> -0.0165 | T23: =T22-S22 -> 0.0054 | U23: =U22-T22 -> -0.0064 | V23: =V22-U22 -> -0.0005 | Y23: capital IQ
A24: Depreciation and amortization | B24: ='Consolidated I S 2016'!B25 -> 1337 | C24: ='Consolidated I S 2016'!C25 -> 991 | D24: ='Consolidated I S 2016'!D25 -> 998 | E24: =E$29*R31 -> 1086.7199 | F24: =F$29*S31 -> 1038.0045 | G24: =G$29*T31 -> 1130.6008 | H24: =H$29*U31 -> 1180.5271 | I24: =I$29*V31 -> 1210.8184 | M24: Gross Margin: | N24: % | O24: =(B17-B29)/B17 -> 0.35788346 | P24: =(C17-C29)/C17 -> 0.25955056 | Q24: =(D17-D29)/D17 -> 0.33664401 | R24: 0.353 | S24: =AVERAGE($O$24:$R$24) -> 0.32676951 | T24: =AVERAGE($O$24:$R$24) -> 0.32676951 | U24: =AVERAGE($O$24:$R$24) -> 0.32676951 | V24: =AVERAGE($O$24:$R$24) -> 0.32676951
A25: Occupancy | B25: ='Consolidated I S 2016'!B26 -> 827 | C25: ='Consolidated I S 2016'!C26 -> 772 | D25: ='Consolidated I S 2016'!D26 -> 788 | E25: =E$29*R32 -> 779.79424 | F25: =F$29*S32 -> 789.6206 | G25: =G$29*T32 -> 854.41114 | H25: =H$29*U32 -> 878.50753 | I25: =I$29*V32 -> 912.27663 | M25: SG&A % Revenue: | N25: % | O25: =B29/B17 -> 0.64211654 | P25: =C29/C17 -> 0.74044944 | Q25: =D29/D17 -> 0.66335599 | R25: =E29/E17 -> 0.68197399 | S25: =F29/F17 -> 0.68 | T25: =G29/G17 -> 0.68197399 | U25: =H29/H17 -> 0.695 | V25: =I29/I17 -> 0.7
A26: Professional fees | B26: ='Consolidated I S 2016'!B27 -> 902 | C26: ='Consolidated I S 2016'!C27 -> 963 | D26: ='Consolidated I S 2016'!D27 -> 882 | E26: =E$29*R33 -> 893.83728 | F26: =F$29*S33 -> 919.32443 | G26: =G$29*T33 -> 956.01471 | H26: =H$29*U33 -> 1003.9904 | I26: =I$29*V33 -> 1041.5498 | Y26: effective tax rate | Z26: http://fingfx.thomsonreuters.com/gfx/editorcharts/USA-TAX-STOCKS/0H0010K907D/index.html
A27: Other expenses | B27: ='Consolidated I S 2016'!B28 -> 2585 | C27: ='Consolidated I S 2016'!C28 -> 5699 | D27: ='Consolidated I S 2016'!D28 -> 2168 | E27: =E$29*R34 -> 3288.2865 | F27: =F$29*S34 -> 3382.0497 | G27: =G$29*T34 -> 3517.0274 | H27: =H$29*U34 -> 3693.5225 | I27: =I$29*V34 -> 3831.6974 | M27: Compensation and benefits | N27: % | O27: =B20/B$29 -> 0.57241442 | P27: =C20/C$29 -> 0.50626947 | Q27: =D20/D$29 -> 0.57363081 | R27: =AVERAGE(O27:Q27) -> 0.55077156 | S27: =AVERAGE(P27:R27) -> 0.54355728 | T27: =AVERAGE(Q27:S27) -> 0.55598655 | U27: =AVERAGE(R27:T27) -> 0.55010513 | V27: =AVERAGE(S27:U27) -> 0.54988299
A28: Total non-compensation expenses | B28: =SUM(B21:B27) -> 9480 | C28: =SUM(C21:C27) -> 12364 | D28: =SUM(D21:D27) -> 8657 | E28: =SUM(E21:E27) -> 9827.2337 | F28: =SUM(F21:F27) -> 10015.537 | G28: =SUM(G21:G27) -> 10620.142 | H28: =SUM(H21:H27) -> 11043.108 | I28: =SUM(I21:I27) -> 11457.892 | M28: Brokerage, clearing, exchange and distribution fees | N28: % | O28: =B21/B$29 -> 0.11280502 | P28: =C21/C$29 -> 0.10286718 | Q28: =D21/D$29 -> 0.12583727 | R28: =AVERAGE(O28:Q28) -> 0.11383649 | S28: =AVERAGE(P28:R28) -> 0.11418032 | T28: =AVERAGE(Q28:S28) -> 0.11795136 | U28: =AVERAGE(R28:T28) -> 0.11532272 | V28: =AVERAGE(S28:U28) -> 0.11581813
A29: Total operating expenses | B29: =B20+B28 -> 22171 | C29: =C20+C28 -> 25042 | D29: =D20+D28 -> 20304 | E29: =E17*E30 -> 21875.805 | F29: =F17*F30 -> 22499.578 | G29: =G17*G30 -> 23397.538 | H29: =H17*H30 -> 24571.697 | I29: =I17*I30 -> 25490.925 | M29: Market development | N29: % | O29: =B22/B$29 -> 0.024762077 | P29: =C22/C$29 -> 0.022242632 | Q29: =D22/D$29 -> 0.02250788 | R29: =AVERAGE(O29:Q29) -> 0.023170863 | S29: =AVERAGE(P29:R29) -> 0.022640459 | T29: =AVERAGE(Q29:S29) -> 0.022773067 | U29: =AVERAGE(R29:T29) -> 0.022861463 | V29: =AVERAGE(S29:U29) -> 0.02275833
A30: % of revenue | B30: =B29/B17 -> 0.64211654 | C30: =C29/C17 -> 0.74044944 | D30: =D29/D17 -> 0.66335599 | E30: =AVERAGE($B$30:$D$30) -> 0.68197399 | F30: 0.68 | G30: =AVERAGE($B$30:$D$30) -> 0.68197399 | H30: 0.695 | I30: 0.7 | M30: Communications and technology | N30: % | O30: =B23/B$29 -> 0.035135988 | P30: =C23/C$29 -> 0.032185928 | Q30: =D23/D$29 -> 0.039844366 | R30: =AVERAGE(O30:Q30) -> 0.035722094 | S30: =AVERAGE(P30:R30) -> 0.035917462 | T30: =AVERAGE(Q30:S30) -> 0.037161307 | U30: =AVERAGE(R30:T30) -> 0.036266955 | V30: =AVERAGE(S30:U30) -> 0.036448575
A31: Pre-tax earnings EBIT | B31: =B17-B29 -> 12357 | C31: =C17-C29 -> 8778 | D31: =D17-D29 -> 10304 | E31: =E17-E29 -> 10201.379 | F31: =F17-F29 -> 10588.037 | G31: =G17-G29 -> 10911.011 | H31: =H17-H29 -> 10783.263 | I31: =I17-I29 -> 10924.682 | M31: Depreciation and amortization | N31: % | O31: =B24/B$29 -> 0.060304001 | P31: =C24/C$29 -> 0.039573516 | Q31: =D24/D$29 -> 0.049152876 | R31: =AVERAGE(O31:Q31) -> 0.049676798 | S31: =AVERAGE(P31:R31) -> 0.046134397 | T31: =AVERAGE(Q31:S31) -> 0.048321357 | U31: =AVERAGE(R31:T31) -> 0.048044184 | V31: =AVERAGE(S31:U31) -> 0.047499979
A32: % revenue | B32: =B31/B17 -> 0.35788346 | C32: =C31/C17 -> 0.25955056 | D32: =D31/D17 -> 0.33664401 | E32: =E31/E17 -> 0.31802601 | F32: =F31/F17 -> 0.32 | G32: =G31/G17 -> 0.31802601 | H32: =H31/H17 -> 0.305 | I32: =I31/I17 -> 0.3 | M32: Occupancy | N32: % | O32: =B25/B$29 -> 0.037300979 | P32: =C25/C$29 -> 0.030828209 | Q32: =D25/D$29 -> 0.038810087 | R32: =AVERAGE(O32:Q32) -> 0.035646425 | S32: =AVERAGE(P32:R32) -> 0.035094907 | T32: =AVERAGE(Q32:S32) -> 0.036517139 | U32: =AVERAGE(R32:T32) -> 0.035752824 | V32: =AVERAGE(S32:U32) -> 0.03578829
A33: Provision for taxes | B33: ='Consolidated I S 2016'!B33 -> 3880 | C33: ='Consolidated I S 2016'!C33 -> 2695 | D33: ='Consolidated I S 2016'!D33 -> 2906 | E33: =5000 -> 5000 | F33: =F31*F34 -> 2223.4877 | G33: =G31*G34 -> 2291.3123 | H33: =H31*H34 -> 2264.4851 | I33: =I31*I34 -> 2294.1833 | M33: Professional fees | N33: % | O33: =B26/B$29 -> 0.040683776 | P33: =C26/C$29 -> 0.038455395 | Q33: =D26/D$29 -> 0.043439716 | R33: =AVERAGE($O33:$Q33) -> 0.040859629 | S33: =AVERAGE($O33:$Q33) -> 0.040859629 | T33: =AVERAGE($O33:$Q33) -> 0.040859629 | U33: =AVERAGE($O33:$Q33) -> 0.040859629 | V33: =AVERAGE($O33:$Q33) -> 0.040859629
A34: Tax rate | B34: 0.314 | C34: 0.307 | D34: 0.282 | E34: =AVERAGE(B34:D34) -> 0.301 | F34: =$N$9 -> 0.21 | G34: =$N$9 -> 0.21 | H34: =$N$9 -> 0.21 | I34: =$N$9 -> 0.21 | J34:  | M34: Other expenses | N34: % | O34: =B27/B$29 -> 0.11659375 | P34: =C27/C$29 -> 0.22757767 | Q34: =D27/D$29 -> 0.10677699 | R34: =AVERAGE($O34:$Q34) -> 0.15031614 | S34: =AVERAGE($O34:$Q34) -> 0.15031614 | T34: =AVERAGE($O34:$Q34) -> 0.15031614 | U34: =AVERAGE($O34:$Q34) -> 0.15031614 | V34: =AVERAGE($O34:$Q34) -> 0.15031614
A35: Net earnings | B35: =B31-B33 -> 8477 | C35: =C31-C33 -> 6083 | D35: =D31-D33 -> 7398 | E35: =E31-E33 -> 5201.3789 | F35: =F31-F33 -> 8364.5491 | G35: =G31-G33 -> 8619.6985 | H35: =H31-H33 -> 8518.7774 | I35: =I31-I33 -> 8630.499
A36: Preferred stock dividends | B36: ='Consolidated I S 2016'!B35 -> 400 | C36: ='Consolidated I S 2016'!C35 -> 515 | D36: ='Consolidated I S 2016'!D35 -> 311 | E36: =AVERAGE($B$36:$D$36) -> 408.66667 | F36: =AVERAGE($B$36:$D$36) -> 408.66667 | G36: =AVERAGE($B$36:$D$36) -> 408.66667 | H36: =AVERAGE($B$36:$D$36) -> 408.66667 | I36: =AVERAGE($B$36:$D$36) -> 408.66667 | M36: Amortization of Intangible Assets: | N36: $ M | P36: 1030 | Q36: 1179 | R36: 133 | S36: 113 | T36: 79 | U36: 29 | V36: 19 | Y36: 10 K p. 166 | Z36: amortization of intangibles
A37: Net earnings applicable to common shareholders | B37: =B35-B36 -> 8077 | C37: =C35-C36 -> 5568 | D37: =D35-D36 -> 7087 | E37: =E35-E36 -> 4792.7122 | F37: =F35-F36 -> 7955.8825 | G37: =G35-G36 -> 8211.0318 | H37: =H35-H36 -> 8110.1107 | I37: =I35-I36 -> 8221.8324 | M37: Impairment of Goodwill: | N37: $ M | P37: 3657 | Q37: 3666 | R37: =AVERAGE(P37:Q37) -> 3661.5 | S37: =AVERAGE(Q37:R37) -> 3663.75 | T37: =AVERAGE(R37:S37) -> 3662.625 | U37: =AVERAGE(S37:T37) -> 3663.1875 | V37: =AVERAGE(T37:U37) -> 3662.9062
A38: Earnings per common share
A39: Basic | B39: ='Consolidated I S 2016'!B38 -> 17.55 | C39: ='Consolidated I S 2016'!C38 -> 12.35 | D39: ='Consolidated I S 2016'!D38 -> 16.53 | E39: =E37/E42 -> 10.768527 | F39: =F37/F42 -> 18.06285 | G39: =G37/G42 -> 18.762037 | H39: =H37/H42 -> 18.388009 | I39: =I37/I42 -> 18.698014 | M39: Amortization of Debt: | N39: % | O39: =-B115/B72 -> 0.16791688 | P39: =-C115/C72 -> 0.16827992 | Q39: =-D115/D72 -> 0.19333531 | R39: =AVERAGE($O39:$Q39) -> 0.1765107 | S39: =AVERAGE($O39:$Q39) -> 0.1765107 | T39: =AVERAGE($O39:$Q39) -> 0.1765107 | U39: =AVERAGE($O39:$Q39) -> 0.1765107 | V39: =AVERAGE($O39:$Q39) -> 0.1765107 | Y39: short term barrowing rate 1.68%
A40: Diluted | B40: ='Consolidated I S 2016'!B39 -> 17.07 | C40: ='Consolidated I S 2016'!C39 -> 12.14 | D40: ='Consolidated I S 2016'!D39 -> 16.29 | E40: =E37/E43 -> 10.518792 | F40: =F37/F43 -> 17.688474 | G40: =G37/G43 -> 18.375898 | H40: =H37/H43 -> 17.992505 | I40: =I37/I43 -> 18.306481 | Y40: weighted average | AA40: page 168 10K | AC40: industry 0.9-1
...

Sheet DCF
C2: Discounted Cash Flow Analysis
C4: CASH FLOW (CF) | F4: 2017 | G4: =+F4+1 -> 2018 | H4: =+G4+1 -> 2019 | I4: =+H4+1 -> 2020 | J4: =+I4+1 -> 2021
C6: EBIT | F6: ='Integrated financial statement'!B31 -> 12357 | G6: ='Integrated financial statement'!C31 -> 8778 | H6: ='Integrated financial statement'!D31 -> 10304 | I6: ='Integrated financial statement'!E31 -> 10201.379 | J6: ='Integrated financial statement'!F31 -> 10588.037
C8: COST OF CAPITAL
C10: Cost of Capital | D10: =WACC!G5 -> 0.050917518
C12: PRESENT VALUE OF CASH FLOWS (PV of CF) | F12: =F4 -> 2017 | G12: =G4 -> 2018 | H12: =H4 -> 2019 | I12: =I4 -> 2020 | J12: =J4 -> 2021
F13: 1 | G13: =F13+1 -> 2 | H13: =G13+1 -> 3 | I13: =H13+1 -> 4 | J13: =I13+1 -> 5
C15: Discount Factor | F15: =1/((1+$D10)^F13) -> 0.95154946 | G15: =1/((1+$D10)^G13) -> 0.90544638 | H15: =1/((1+$D10)^H13) -> 0.86157702 | I15: =1/((1+$D10)^I13) -> 0.81983315 | J15: =1/((1+$D10)^J13) -> 0.78011179
C17: Present Value of Cash Flows | F17: =F6*F15 -> 11758.297 | G17: =G6*G15 -> 7948.0083 | H17: =H6*H15 -> 8877.6896 | I17: =I6*I15 -> 8363.4286 | J17: =J6*J15 -> 8259.8524
C19: TERMINAL VALUE (CASH FLOW OF GS IN PERPETUITY)
C21: Cost of Capital | J21: =D10 -> 0.050917518
C22: Growth Rate in Perpetuity | J22: 0.024 | K22: inflation rate
C24: Terminal Value | J24: =(J6*(1+J22))/(J21-J22) -> 402791.59
C26: GS VALUE: PERPETUITY GROWTH RATE METHOD
E28: PV of CF | G28: PV of Terminal Value | I28: GS
E29: =SUM(F17:J17) -> 45207.276 | F29: + | G29: =J15*J24 -> 314222.47 | H29: = | I29: =E29+G29 -> 359429.74 | J29: enterprice value
I30: =I29*100000 -> 3.5942974e+10
H31: EBITDA Multiple | I31: 21.83
H34: short term debt | I34: 110810000000
H35: long term debt | I35: =WACC!E22 -> 210609000000
G36: - | H36: cash and marketable securities | I36: =238636000000 -> 238636000000
G37: - | H37: current preferred and minority interest | I37: =11203*100000 -> 1120300000
H38: equity value | I38: =I34+I35-I36-I37 -> 81662700000
I39: =I38+I30 -> 1.1760567e+11 | J39: PV of the company today
F40: Current share price | G40: =WACC!F16 -> 260.04
F41: stimated share price | G41: =I42 -> 285.16977 | H41: estimated shares outstandings | I41: 412405824
F42: discount | G42: =1-G40/G41 -> 0.088122141 | H42: estimated value per share | I42: =I39/I41 -> 285.16977

Sheet WACC
D3: WACC Calculations for GS
F5: WACC | G5: =(1-F12)*F13*(F15/F19)+G14*(F18/F19) -> 0.050917518
B7: 2014 | E7: berofe new tax code
B8: effective taxrate | C8: ='Integrated financial statement'!B34 -> 0.314 | E8: Tax rate | F8: =AVERAGE(C8:C14) -> 0.301 | G8: r(d)
F9: 0.301
B10: 2015 | E10: After new tax code
B11: effective taxrate | C11: ='Integrated financial statement'!C34 -> 0.307 | E11: Tax rate | F11: ='Integrated financial statement'!N9 -> 0.21 | G11: r(d)
F12: 0.21
B13: 2016 | E13: r(d) | F13: 0.033 | H13: BBB+/A-2 | I13: Goldman sachs Group Inc.
B14: effective taxrate | C14: ='Integrated financial statement'!D34 -> 0.282 | E14: r(e) | F14: =CAPM!D8 -> 0.2947589 | G14: 0.2948
E15: D= | F15: =E23 -> 1052598000000
B16: 2017 | E16: Stock price | F16: 260.04
B17: effective taxrate | C17: ='Integrated financial statement'!N9 -> 0.21 | E17: Outstanding shares | F17: =377200000+'Treasury Stock'!E11 -> 4.1240582e+08
E18: E= | F18: =F16*F17 -> 1.0724201e+11
E19: D+E=V= | F19: =F15+F18 -> 1.15984e+12
C21: Debt: | D21: total current liabilities | E21: =841989000*1000 -> 841989000000
D22: long term liabilities | E22: =210609000000 -> 210609000000
D23: total debt | E23: =E22+E21 -> 1052598000000

Sheet CAPM
C2: Calculation for CAPM for the r=e
C4: Risk Free | D4: 0.02841 | E4: 10 y T-bond | F4: 0.02841
C5: Beta | D5: 1.51 | E5: GS stock Beta
C6: S&P yield | D6: 0.2048 | E6: YTD | F6: 0.2048
C7: CAPM | D7: =D4+(D5*(D6-D4)) -> 0.2947589
D8: =D7 -> 0.2947589

Sheet Consolidated I S 2016
A1: Company Name: The Goldman Sachs Group, Inc.
A2: Form Type: 10-K
A3: Filed On: 2/27/2017
A4: Year ended december
A5: in millions, except per share amounts
A7: INCOME STATEMENT | B7: 2014 | C7: 2015 | D7: 2016
A8: Revenues
A9: Investment banking | B9: 6464 | C9: 7027 | D9: 6273
A10: Investment management | B10: 5748 | C10: 5868 | D10: 5407
A11: Commissions and fees | B11: 3316 | C11: 3320 | D11: 3208
A12: Market making | B12: 8365 | C12: 9523 | D12: 9933
A13: Other principal transactions | B13: 6588 | C13: 5018 | D13: 3200
A14: Total non-interest revenues | B14: =B13+B12+B11+B10+B9 -> 30481 | C14: =C13+C12+C11+C10+C9 -> 30756 | D14: =D13+D12+D11+D10+D9 -> 28021
A15: Interest income | B15: 9604 | C15: 8452 | D15: 9691
A16: Interest expense | B16: 5557 | C16: 5388 | D16: 7104
A17: Net interest income | B17: =B15-B16 -> 4047 | C17: =C15-C16 -> 3064 | D17: =D15-D16 -> 2587
A18: Net revenues, including net interest income | B18: =B14+B17 -> 34528 | C18: =C14+C17 -> 33820 | D18: =D14+D17 -> 30608
A19: % Growth | B19: N/A | C19: =(C9/B9)-1 -> 0.087097772 | D19: =(D9/$B$9)-1 -> -0.029548267
A20: Operating expenses
A21: Compensation and benefits | B21: 12691 | C21: 12678 | D21: 11647
A22: Brokerage, clearing, exchange and distribution fees | B22: 2501 | C22: 2576 | D22: 2555
A23: Market development | B23: 549 | C23: 557 | D23: 457
A24: Communications and technology | B24: 779 | C24: 806 | D24: 809
A25: Depreciation and amortization | B25: 1337 | C25: 991 | D25: 998
A26: Occupancy | B26: 827 | C26: 772 | D26: 788
A27: Professional fees | B27: 902 | C27: 963 | D27: 882
A28: Other expenses | B28: 2585 | C28: 5699 | D28: 2168
A29: Total non-compensation expenses | B29: =B22+B23+B24+B25+B26+B27+B28 -> 9480 | C29: =C22+C23+C24+C25+C26+C27+C28 -> 12364 | D29: =D22+D23+D24+D25+D26+D27+D28 -> 8657
A30: Total operating expenses | B30: =B29+B21 -> 22171 | C30: =C29+C21 -> 25042 | D30: =D29+D21 -> 20304
A31: % of sale | B31: =B30/B18 -> 0.64211654 | C31: =C30/C18 -> 0.74044944 | D31: =D30/D18 -> 0.66335599
A32: Pre-tax earnings EBIT | B32: =B18-B30 -> 12357 | C32: =C18-C30 -> 8778 | D32: =D18-D30 -> 10304
A33: Provision for taxes | B33: 3880 | C33: 2695 | D33: 2906
A34: Net earnings | B34: =B32-B33 -> 8477 | C34: =C32-C33 -> 6083 | D34: =D32-D33 -> 7398
A35: Preferred stock dividends | B35: 400 | C35: 515 | D35: 311
A36: Net earnings applicable to common shareholders | B36: =B34-B35 -> 8077 | C36: =C34-C35 -> 5568 | D36: =D34-D35 -> 7087
A37: Earnings per common share
A38: Basic | B38: 17.55 | C38: 12.35 | D38: 16.53
A39: Diluted | B39: 17.07 | C39: 12.14 | D39: 16.29
A40: Average common shares
A41: Basic | B41: 458.9 | C41: 448.9 | D41: 427.4
...

Sheet Consolidated BS 2015
A1: Company Name: The Goldman Sachs Group, Inc.
A2: Form Type: 10-K
A3: Filed On: 2014
A4: Consolidated Statements of Financial Condition
A5: as of december
A6: BALANCE SHEET | B6: 2013 | C6: 2014
A7: Assets
A8: Cash and cash equivalents | B8: 61133 | C8: 57600
A9: Cash and securities segregated for regulatory and other purposes (includes $34,291 and $31,937 at fair value as of December 2014 and December 2013, respectively) | B9: 49671 | C9: 51716
A10: Collateralized agreements:
A11: Securities purchased under agreements to resell and federal funds sold (includes $126,036 and $161,297 at fair value as of December 2014 and December 2013, respectively) | B11: 161732 | C11: 127938
A12: Securities borrowed (includes $66,769 and $60,384 at fair value as of December 2014 and December 2013, respectively) | B12: 164566 | C12: 160722
A13: Receivables:
A14: Brokers, dealers and clearing organizations | B14: 23840 | C14: 30671
A15: Customers and counterparties (includes $6,944 and $7,416 at fair value as of December 2014 and December 2013, respectively) | B15: 74040 | C15: 63808
A16: Loans receivable | B16: 14895 | C16: 28938
A17: Financial instruments owned, at fair value (includes $64,473 and $62,348 pledged as collateral as of December 2014 and December 2013, respectively) | B17: 339121 | C17: 312248
A18: Other assets (includes $18 at fair value as of December 2013) | B18: 22509 | C18: 22599
A19: Total assets | B19: =SUM(B8:B18) -> 911507 | C19: =SUM(C8:C18) -> 856240
A20: Liabilities and shareholders' equity
A21: Deposits (includes $13,523 and $7,255 at fair value as of December 2014 and December 2013, respectively) | B21: 70807 | C21: 83008
A22: Collateralized financings:
A23: Securities sold under agreements to repurchase, at fair value | B23: 164782 | C23: 88215
A24: Securities loaned (includes $765 and $973 at fair value as of December 2014 and December 2013, respectively) | B24: 18745 | C24: 5570
A25: Other secured financings (includes $21,450 and $23,591 at fair value as of December 2014 and December 2013, respectively) | B25: 24814 | C25: 22809
A26: Payables:
A27: Brokers, dealers and clearing organizations | B27: 5349 | C27: 6636
A28: Customers and counterparties | B28: 199416 | C28: 206936
A29: Financial instruments sold, but not yet purchased, at fair value | B29: 127426 | C29: 132083
A30: Unsecured short- term borrowings, including the current portion of unsecured long- term borrowings (includes $18,826 and $19,067 at fair value as of December 2014 and December 2013, respectively) | B30: 44692 | C30: 44540
A31: Unsecured long- term borrowings (includes $16,005 and $11,691 at fair value as of December 2014 and December 2013, respectively) | B31: 160965 | C31: 167571
A32: Other liabilities and accrued expenses (includes $831 and $388 at fair value as of December 2014 and December 2013, respectively) | B32: 16044 | C32: 16075
A33: Total liabilities | B33: =SUM(B21:B32) -> 833040 | C33: =SUM(C21:C32) -> 773443
A34: Commitments, contingencies and guarantees
A35: Shareholders' equity
A36: Preferred stock, par value $0.01 per share; aggregate liquidation preference of $9,200 and $7,200 as of December 2014 and December 2013, respectively | B36: 7200 | C36: 9200
A37: Common stock, par value $0.01 per share; 4,000,000,000 shares authorized, 852,784,764 and 837,219,068 shares issued as of December 2014 and December 2013, respectively, and 430,259,102 and 446,359,012 shares outstanding as of December 2014 and December 2013, respectively | B37: 8 | C37: 9
A38: Share- based awards | B38: 3839 | C38: 3766
A39: Nonvoting common stock, par value $0.01 per share; 200,000,000 shares authorized, no shares issued and outstanding | B39: - | C39: -
A40: Additional paid- in capital | B40: 48998 | C40: 50049
...

Sheet Consolidated BS 2016
A1: Company Name: The Goldman Sachs Group, Inc.
A2: Form Type: 10-K
A3: Filed On: 2/27/2017
A4: Consolidated Statements of Financial Condition
A5: as of december
A6: BALANCE SHEET | B6: 2015 | C6: 2016
A7: Assets
A8: Cash and cash equivalents | B8: 93439 | C8: 121711
A9: Collateralized agreements:
A10: Securities purchased under agreements to resell and federal funds sold (includes $116,077 as of December 2016 and $132,853 as of December 2015, at fair value) | B10: 134308 | C10: 116925
A11: Securities borrowed (includes $82,398 as of December 2016 and $75,340 as of December 2015, at fair value) | B11: 177638 | C11: 184600
A12: Receivables:
A13: Brokers, dealers and clearing organizations | B13: 25453 | C13: 18044
A14: Customers and counterparties (includes $3,266 as of December 2016 and $4,992 as of December 2015, at fair value) | B14: 46430 | C14: 47780
A15: Loans receivable | B15: 45407 | C15: 49672
A16: Financial instruments owned, at fair value (includes $51,278 as of December 2016 and $54,426 as of December 2015, pledged as collateral) | B16: 313502 | C16: 295952
A17: Other assets | B17: 25218 | C17: 25481
A18: Total assets | B18: =SUM(B8:B17) -> 861395 | C18: =SUM(C8:C17) -> 860165
A19: Liabilities and shareholders' equity
A20: Deposits (includes $13,782 as of December 2016 and $14,680 as of December 2015, at fair value) | B20: 97519 | C20: 124098
A21: Collateralized financings:
A22: Securities sold under agreements to repurchase, at fair value | B22: 86069 | C22: 71816
A23: Securities loaned (includes $2,647 as of December 2016 and $466 as of December 2015, at fair value) | B23: 3614 | C23: 7524
A24: Other secured financings (includes $21,073 as of December 2016 and $23,207 as of December 2015, at fair value) | B24: 24753 | C24: 21523
A25: Payables:
A26: Brokers, dealers and clearing organizations | B26: 5406 | C26: 4386
A27: Customers and counterparties | B27: 204956 | C27: 184069
A28: Financial instruments sold, but not yet purchased, at fair value | B28: 115248 | C28: 117143
A29: Unsecured short- term borrowings, including the current portion of unsecured long- term borrowings (includes $14,792 as of December 2016 and $17,743 as of December 2015, at fair value) | B29: 42787 | C29: 39265
A30: Unsecured long- term borrowings (includes $29,410 as of December 2016 and $22,273 as of December 2015, at fair value) | B30: 175422 | C30: 189086
A31: Other liabilities and accrued expenses (includes $621 as of December 2016 and $1,253 as of December 2015, at fair value) | B31: 18893 | C31: 14362
A32: Total liabilities | B32: =SUM(B20:B31) -> 774667 | C32: =SUM(C20:C31) -> 773272
A33: Commitments, contingencies and guarantees
A34: Shareholders' equity
A35: Preferred stock, par value $0.01 per share; aggregate liquidation preference of $11,203 as of December 2016 and $11,200 as of 12/1/2015 | B35: 11200 | C35: 11203
A36: Common stock, par value $0.01 per share; 4,000,000,000 shares authorized, 873,608,100 shares issued as of December 2016 and 863,976,731 shares issued as of December 2015, and 392,632,230 shares outstanding as of December 2016 and outstanding as of December 2015 419,480,736 shares | B36: 9 | C36: 9
A37: Share- based awards | B37: 4151 | C37: 3914
A38: Nonvoting common stock, par value $0.01 per share; 200,000,000 shares authorized, no shares issued and outstanding | B38: - | C38: -
A39: Additional paid- in capital | B39: 51340 | C39: 52638
A40: Retained earnings | B40: 83386 | C40: 89039
...

Sheet Consolidated C F 2016
A1: Company Name: The Goldman Sachs Group, Inc.
A2: Form Type: 10-K
A3: Filed On: 2/27/2017
A6: Cash Flow
A10: Year Ended December
A11: $ in millions
A12: Cash flows from operating activities | B12: 2014 | C12: 2015 | D12: 2016
A13: Net earnings | B13: 8477 | C13: 6083 | D13: 7398
A14: Depreciation and amortization | B14: 1337 | C14: 991 | D14: 998
A15: Deferred income taxes | B15: 495 | C15: 425 | D15: 551
A16: Share-based compensation | B16: 2085 | C16: 2272 | D16: 2111
A17: Loss/(gain) related to extinguishment of junior subordinated debt | B17: -289 | C17: -34 | D17: 3
A18: Changes in operating assets and liabilities:
A19: Receivables and payables (excluding loans receivable), net | B19: 12328 | C19: 19132 | D19: -15813
A20: Collateralized transactions (excluding other secured financings), net | B20: -52793 | C20: -14825 | D20: 78
A21: Financial instruments owned, at fair value | B21: 25881 | C21: 16078 | D21: 15253
A22: Financial instruments sold, but not yet purchased, at fair value | B22: 4642 | C22: -16835 | D22: 1960
A23: Other, net | B23: -10095 | C23: -5417 | D23: -6969
A24: Net cash provided by/(used for) operating activities | B24: -7932 | C24: 7870 | D24: 5570
A25: Cash flows from investing activities
A26: Purchase of property, leasehold improvements and equipment | B26: -678 | C26: -1833 | D26: -2876
A27: Proceeds from sales of property, leasehold improvements and equipment | B27: 30 | C27: 228 | D27: 381
A28: Net cash acquired in/(used for) business acquisitions | B28: -1732 | C28: -1808 | D28: 14922
A29: Proceeds from sales of investments | B29: 1514 | C29: 1019 | D29: 1512
A30: Loans receivable, net | B30: -14043 | C30: -16180 | D30: -4669
A31: Net cash provided by/(used for) investing activities | B31: -14909 | C31: -18574 | D31: 9270
A32: Cash flows from financing activities
A33: Unsecured short-term borrowings, net | B33: 1659 | C33: -369 | D33: -1506
A34: Other secured financings (short-term), net | B34: -837 | C34: -867 | D34: -808
A35: Proceeds from issuance of other secured financings (long-term) | B35: 6900 | C35: 10349 | D35: 4186
A36: Repayment of other secured financings (long-term), including the current portion | B36: -7636 | C36: -6502 | D36: -7375
A37: Purchase of APEX, senior guaranteed securities and trust preferred securities | B37: -1611 | C37: -1 | D37: -1171
A38: Proceeds from issuance of unsecured long-term borrowings | B38: 39857 | C38: 44595 | D38: 50763
A39: Repayment of unsecured long-term borrowings, including the current portion | B39: -28138 | C39: -29520 | D39: -36557
A40: Derivative contracts with a financing element, net | B40: 643 | C40: -47 | D40: 2115
A41: Deposits, net | B41: 12201 | C41: 14639 | D41: 10058
A42: Common stock repurchased | B42: -5469 | C42: -4135 | D42: -6078
A43: Dividends and dividend equivalents paid on common stock, preferred stock and share-based awards | B43: -1454 | C43: -1681 | D43: -1706
A44: Proceeds from issuance of preferred stock, net of issuance costs | B44: 1980 | C44: 1993 | D44: 1303
... A46: Excess tax benefit related to share-based awards | B46: 782 | C46: 407 | D46: 202
...

Sheet Treasury Stock
B4: TREASURY STOCK METHOD
A7: 10K | B7: Additional shares (after exercising options) | E7: 35785180
A8: 43133 | B8: Strike price | E8: 4.21
A9: 43133 | B9: Average stock price | E9: 260.04
B11: Additional shares o/s | E11: =E7*(1-E8/E9) -> 35205824

Sheet Note 3
A1: Note 3
A2: Year Ended December
A3: $ in millions | B3: 2014 | C3: 2015 | D3: 2016
A4: Share-based compensation | B4: 2101 | C4: 2304 | D4: 2170
A5: Excess net tax benefit for options exercised | B5: 549 | C5: 134 | D5: 79
A6: Excess net tax benefit for other share-based awards | B6: 788 | C6: 406 | D6: 147

Sheet LT Assets
A1: Selected Financial Data
A2: Year Ended or as of December
B4: 2012 | C4: 2013 | D4: 2014 | E4: 2015 | F4: 2016
A5: Total long-term assets
A6: under supervision | B6: 715 | C6: 796 | D6: 895 | E6: 946 | F6: 1021
A7: Liquidity products 358 306 283 246 250 | B7: 250 | C7: 246 | D7: 283 | E7: 306 | F7: 358
A8: Total assets under supervision | B8: =SUM(B6:B7) -> 965 | C8: =SUM(C6:C7) -> 1042 | D8: =SUM(D6:D7) -> 1178 | E8: =SUM(E6:E7) -> 1252 | F8: =SUM(F6:F7) -> 1379
